BEGIN:VCALENDAR
VERSION:2.0
PRODID:-//StreamRadar//Match Calendar//EN
CALSCALE:GREGORIAN
METHOD:PUBLISH
X-WR-CALNAME:Igea Virtus vs Vibonese
X-WR-TIMEZONE:America/New_York
BEGIN:VEVENT
UID:match-5614588@streamradar.soccer
SUMMARY:Igea Virtus vs Vibonese
DTSTAMP:20260421T062216Z
DTSTART;TZID=America/New_York:20260422T110000
DTEND;TZID=America/New_York:20260422T130000
LOCATION:Stadio Carlo Stagno d'Alcontres ()
DESCRIPTION:Dónde ver Igea Virtus vs Vibonese en Italia - Serie D. Transmi
 sión en vivo y programación de TV.\nhttps://streamradar.soccer/es/match/5
 614588/igea-virtus-vs-vibonese/
URL;VALUE=URI:https://streamradar.soccer/es/match/5614588/igea-virtus-vs-vi
 bonese/
STATUS:CONFIRMED
END:VEVENT
END:VCALENDAR
