BEGIN:VCALENDAR
VERSION:2.0
PRODID:-//StreamRadar//Match Calendar//EN
CALSCALE:GREGORIAN
METHOD:PUBLISH
X-WR-CALNAME:Croydon Kings vs Adelaide United II
X-WR-TIMEZONE:America/New_York
BEGIN:VEVENT
UID:match-5614511@streamradar.soccer
SUMMARY:Croydon Kings vs Adelaide United II
DTSTAMP:20260421T182114Z
DTSTART;TZID=America/New_York:20260626T060000
DTEND;TZID=America/New_York:20260626T080000
LOCATION:Regency Park
DESCRIPTION:Dónde ver Croydon Kings vs Adelaide United II en Australia - N
 PL SA. Transmisión en vivo y programación de TV.\nhttps://streamradar.soc
 cer/es/match/5614511/croydon-kings-vs-adelaide-united-ii/
URL;VALUE=URI:https://streamradar.soccer/es/match/5614511/croydon-kings-vs-
 adelaide-united-ii/
STATUS:CONFIRMED
END:VEVENT
END:VCALENDAR
