BEGIN:VCALENDAR
VERSION:2.0
PRODID:-//StreamRadar//Match Calendar//EN
CALSCALE:GREGORIAN
METHOD:PUBLISH
X-WR-CALNAME:Vejgaard B vs Holbæk B&I
X-WR-TIMEZONE:America/New_York
BEGIN:VEVENT
UID:match-5613201@streamradar.soccer
SUMMARY:Vejgaard B vs Holbæk B&I
DTSTAMP:20260421T062936Z
DTSTART;TZID=America/New_York:20260509T070000
DTEND;TZID=America/New_York:20260509T090000
DESCRIPTION:Dónde ver Vejgaard B vs Holbæk B&I en Dinamarca - 3. divisió
 n de Dinamarca. Transmisión en vivo y programación de TV.\nhttps://stream
 radar.soccer/es/match/5613201/vejgaard-b-vs-holbak-b-i/
URL;VALUE=URI:https://streamradar.soccer/es/match/5613201/vejgaard-b-vs-hol
 bak-b-i/
STATUS:CONFIRMED
END:VEVENT
END:VCALENDAR
