BEGIN:VCALENDAR
VERSION:2.0
PRODID:-//StreamRadar//Match Calendar//EN
CALSCALE:GREGORIAN
METHOD:PUBLISH
X-WR-CALNAME:Nykøbing vs FA 2000
X-WR-TIMEZONE:America/New_York
BEGIN:VEVENT
UID:match-5613183@streamradar.soccer
SUMMARY:Nykøbing vs FA 2000
DTSTAMP:20260421T054713Z
DTSTART;TZID=America/New_York:20260426T080000
DTEND;TZID=America/New_York:20260426T100000
LOCATION:Lollands Bank Park
DESCRIPTION:Dónde ver Nykøbing vs FA 2000 en Dinamarca - 3. división de 
 Dinamarca. Transmisión en vivo y programación de TV.\nhttps://streamradar
 .soccer/es/match/5613183/nykobing-vs-fa-2000/
URL;VALUE=URI:https://streamradar.soccer/es/match/5613183/nykobing-vs-fa-20
 00/
STATUS:CONFIRMED
END:VEVENT
END:VCALENDAR
