BEGIN:VCALENDAR
VERSION:2.0
PRODID:-//StreamRadar//Match Calendar//EN
CALSCALE:GREGORIAN
METHOD:PUBLISH
X-WR-CALNAME:FA 2000 vs Hørsholm-Usserød
X-WR-TIMEZONE:America/New_York
BEGIN:VEVENT
UID:match-5613178@streamradar.soccer
SUMMARY:FA 2000 vs Hørsholm-Usserød
DTSTAMP:20260421T104215Z
DTSTART;TZID=America/New_York:20260418T080000
DTEND;TZID=America/New_York:20260418T100000
LOCATION:Frederiksberg Idraetspark
DESCRIPTION:Dónde ver FA 2000 vs Hørsholm-Usserød en Dinamarca - 3. divi
 sión de Dinamarca. Transmisión en vivo y programación de TV.\nhttps://st
 reamradar.soccer/es/match/5613178/fa-2000-vs-horsholm-usserod/
URL;VALUE=URI:https://streamradar.soccer/es/match/5613178/fa-2000-vs-horsho
 lm-usserod/
STATUS:CONFIRMED
END:VEVENT
END:VCALENDAR
