BEGIN:VCALENDAR
VERSION:2.0
PRODID:-//StreamRadar//Match Calendar//EN
CALSCALE:GREGORIAN
METHOD:PUBLISH
X-WR-CALNAME:Thróttur Reykjavík vs Breidablik
X-WR-TIMEZONE:America/New_York
BEGIN:VEVENT
UID:match-5613080@streamradar.soccer
SUMMARY:Thróttur Reykjavík vs Breidablik
DTSTAMP:20260421T080808Z
DTSTART;TZID=America/New_York:20260513T133000
DTEND;TZID=America/New_York:20260513T153000
DESCRIPTION:Dónde ver Thróttur Reykjavík vs Breidablik en Mjólkurbikari
 nn. Transmisión en vivo y programación de TV.\nhttps://streamradar.soccer
 /es/match/5613080/throttur-reykjavik-vs-breidablik/
URL;VALUE=URI:https://streamradar.soccer/es/match/5613080/throttur-reykjavi
 k-vs-breidablik/
STATUS:CONFIRMED
END:VEVENT
END:VCALENDAR
