BEGIN:VCALENDAR
VERSION:2.0
PRODID:-//StreamRadar//Match Calendar//EN
CALSCALE:GREGORIAN
METHOD:PUBLISH
X-WR-CALNAME:HK vs Víkingur Reykjavík
X-WR-TIMEZONE:America/New_York
BEGIN:VEVENT
UID:match-5613078@streamradar.soccer
SUMMARY:HK vs Víkingur Reykjavík
DTSTAMP:20260421T093054Z
DTSTART;TZID=America/New_York:20260513T151500
DTEND;TZID=America/New_York:20260513T171500
DESCRIPTION:Dónde ver HK vs Víkingur Reykjavík en Mjólkurbikarinn. Tran
 smisión en vivo y programación de TV.\nhttps://streamradar.soccer/es/matc
 h/5613078/hk-vs-vikingur-reykjavik/
URL;VALUE=URI:https://streamradar.soccer/es/match/5613078/hk-vs-vikingur-re
 ykjavik/
STATUS:CONFIRMED
END:VEVENT
END:VCALENDAR
