BEGIN:VCALENDAR
VERSION:2.0
PRODID:-//StreamRadar//Match Calendar//EN
CALSCALE:GREGORIAN
METHOD:PUBLISH
X-WR-CALNAME:Young Apostles vs Vision
X-WR-TIMEZONE:America/New_York
BEGIN:VEVENT
UID:match-5613039@streamradar.soccer
SUMMARY:Young Apostles vs Vision
DTSTAMP:20260421T071510Z
DTSTART;TZID=America/New_York:20260426T110000
DTEND;TZID=America/New_York:20260426T130000
LOCATION:Wenchi Sports Stadium
DESCRIPTION:Dónde ver Young Apostles vs Vision en Ghana - Ghana Premier Le
 ague. Transmisión en vivo y programación de TV.\nhttps://streamradar.socc
 er/es/match/5613039/young-apostles-vs-vision/
URL;VALUE=URI:https://streamradar.soccer/es/match/5613039/young-apostles-vs
 -vision/
STATUS:CONFIRMED
END:VEVENT
END:VCALENDAR
