BEGIN:VCALENDAR
VERSION:2.0
PRODID:-//StreamRadar//Match Calendar//EN
CALSCALE:GREGORIAN
METHOD:PUBLISH
X-WR-CALNAME:Heart of Lions vs Nations
X-WR-TIMEZONE:America/New_York
BEGIN:VEVENT
UID:match-5613035@streamradar.soccer
SUMMARY:Heart of Lions vs Nations
DTSTAMP:20260421T060124Z
DTSTART;TZID=America/New_York:20260426T110000
DTEND;TZID=America/New_York:20260426T130000
LOCATION:Kpandu stadium
DESCRIPTION:Dónde ver Heart of Lions vs Nations en Ghana - Ghana Premier L
 eague. Transmisión en vivo y programación de TV.\nhttps://streamradar.soc
 cer/es/match/5613035/heart-of-lions-vs-nations/
URL;VALUE=URI:https://streamradar.soccer/es/match/5613035/heart-of-lions-vs
 -nations/
STATUS:CONFIRMED
END:VEVENT
END:VCALENDAR
