BEGIN:VCALENDAR
VERSION:2.0
PRODID:-//StreamRadar//Match Calendar//EN
CALSCALE:GREGORIAN
METHOD:PUBLISH
X-WR-CALNAME:Motherwell vs Celtic
X-WR-TIMEZONE:America/New_York
BEGIN:VEVENT
UID:match-5613000@streamradar.soccer
SUMMARY:Motherwell vs Celtic
DTSTAMP:20260421T062338Z
DTSTART;TZID=America/New_York:20260513T150000
DTEND;TZID=America/New_York:20260513T170000
LOCATION:Fir Park
DESCRIPTION:Dónde ver Motherwell vs Celtic en Scottish Premiership. Transm
 isión en vivo y programación de TV.\nhttps://streamradar.soccer/es/match/
 5613000/motherwell-vs-celtic/
URL;VALUE=URI:https://streamradar.soccer/es/match/5613000/motherwell-vs-cel
 tic/
STATUS:CONFIRMED
END:VEVENT
END:VCALENDAR
