BEGIN:VCALENDAR
VERSION:2.0
PRODID:-//StreamRadar//Match Calendar//EN
CALSCALE:GREGORIAN
METHOD:PUBLISH
X-WR-CALNAME:Vendsyssel vs HIK
X-WR-TIMEZONE:America/New_York
BEGIN:VEVENT
UID:match-5612727@streamradar.soccer
SUMMARY:Vendsyssel vs HIK
DTSTAMP:20260421T054854Z
DTSTART;TZID=America/New_York:20260426T070000
DTEND;TZID=America/New_York:20260426T090000
LOCATION:Nord Energi Arena (Hjørring)
DESCRIPTION:Dónde ver Vendsyssel vs HIK en Dinamarca - 1. division. Transm
 isión en vivo y programación de TV.\nhttps://streamradar.soccer/es/match/
 5612727/vendsyssel-vs-hik/
URL;VALUE=URI:https://streamradar.soccer/es/match/5612727/vendsyssel-vs-hik
 /
STATUS:CONFIRMED
END:VEVENT
END:VCALENDAR
