BEGIN:VCALENDAR
VERSION:2.0
PRODID:-//StreamRadar//Match Calendar//EN
CALSCALE:GREGORIAN
METHOD:PUBLISH
X-WR-CALNAME:AB vs Vendsyssel
X-WR-TIMEZONE:America/New_York
BEGIN:VEVENT
UID:match-5612723@streamradar.soccer
SUMMARY:AB vs Vendsyssel
DTSTAMP:20260421T091933Z
DTSTART;TZID=America/New_York:20260418T070000
DTEND;TZID=America/New_York:20260418T090000
LOCATION:Gladsaxe Stadion (Søborg)
DESCRIPTION:Dónde ver AB vs Vendsyssel en Dinamarca - 1. division. Transmi
 sión en vivo y programación de TV.\nhttps://streamradar.soccer/es/match/5
 612723/ab-vs-vendsyssel/
URL;VALUE=URI:https://streamradar.soccer/es/match/5612723/ab-vs-vendsyssel/
STATUS:CONFIRMED
END:VEVENT
END:VCALENDAR
