BEGIN:VCALENDAR
VERSION:2.0
PRODID:-//StreamRadar//Match Calendar//EN
CALSCALE:GREGORIAN
METHOD:PUBLISH
X-WR-CALNAME:Canberra White Eagles vs Queanbeyan City
X-WR-TIMEZONE:America/New_York
BEGIN:VEVENT
UID:match-5612680@streamradar.soccer
SUMMARY:Canberra White Eagles vs Queanbeyan City
DTSTAMP:20260421T093055Z
DTSTART;TZID=America/New_York:20260512T053000
DTEND;TZID=America/New_York:20260512T073000
LOCATION:Woden Park
DESCRIPTION:Dónde ver Canberra White Eagles vs Queanbeyan City en Australi
 a - NPL ACT. Transmisión en vivo y programación de TV.\nhttps://streamrad
 ar.soccer/es/match/5612680/canberra-white-eagles-vs-queanbeyan-city/
URL;VALUE=URI:https://streamradar.soccer/es/match/5612680/canberra-white-ea
 gles-vs-queanbeyan-city/
STATUS:CONFIRMED
END:VEVENT
END:VCALENDAR
