BEGIN:VCALENDAR
VERSION:2.0
PRODID:-//StreamRadar//Match Calendar//EN
CALSCALE:GREGORIAN
METHOD:PUBLISH
X-WR-CALNAME:Singida Black Stars vs Namungo
X-WR-TIMEZONE:America/New_York
BEGIN:VEVENT
UID:match-5612663@streamradar.soccer
SUMMARY:Singida Black Stars vs Namungo
DTSTAMP:20260421T092400Z
DTSTART;TZID=America/New_York:20260512T070000
DTEND;TZID=America/New_York:20260512T090000
DESCRIPTION:Dónde ver Singida Black Stars vs Namungo en Tanzania Premier L
 eague. Transmisión en vivo y programación de TV.\nhttps://streamradar.soc
 cer/es/match/5612663/singida-black-stars-vs-namungo/
URL;VALUE=URI:https://streamradar.soccer/es/match/5612663/singida-black-sta
 rs-vs-namungo/
STATUS:CONFIRMED
END:VEVENT
END:VCALENDAR
