BEGIN:VCALENDAR
VERSION:2.0
PRODID:-//StreamRadar//Match Calendar//EN
CALSCALE:GREGORIAN
METHOD:PUBLISH
X-WR-CALNAME:América RN vs ABC
X-WR-TIMEZONE:America/New_York
BEGIN:VEVENT
UID:match-5612258@streamradar.soccer
SUMMARY:América RN vs ABC
DTSTAMP:20260421T074044Z
DTSTART;TZID=America/New_York:20260422T180000
DTEND;TZID=America/New_York:20260422T200000
LOCATION:Arena das Dunas
DESCRIPTION:Dónde ver América RN vs ABC en Brasil - Serie D. Transmisión
  en vivo y programación de TV.\nhttps://streamradar.soccer/es/match/561225
 8/america-rn-vs-abc/
URL;VALUE=URI:https://streamradar.soccer/es/match/5612258/america-rn-vs-abc
 /
STATUS:CONFIRMED
END:VEVENT
END:VCALENDAR
