BEGIN:VCALENDAR
VERSION:2.0
PRODID:-//StreamRadar//Match Calendar//EN
CALSCALE:GREGORIAN
METHOD:PUBLISH
X-WR-CALNAME:Atlético Mansillés vs Almazán
X-WR-TIMEZONE:America/New_York
BEGIN:VEVENT
UID:match-5612244@streamradar.soccer
SUMMARY:Atlético Mansillés vs Almazán
DTSTAMP:20260421T092230Z
DTSTART;TZID=America/New_York:20260423T110000
DTEND;TZID=America/New_York:20260423T130000
LOCATION:Campo de Fútbol de Mansilla de las Mulas (Mansilla de las Mulas)
DESCRIPTION:Dónde ver Atlético Mansillés vs Almazán en España - Tercer
 a Federación. Transmisión en vivo y programación de TV.\nhttps://streamr
 adar.soccer/es/match/5612244/atletico-mansilles-vs-almazan/
URL;VALUE=URI:https://streamradar.soccer/es/match/5612244/atletico-mansille
 s-vs-almazan/
STATUS:CONFIRMED
END:VEVENT
END:VCALENDAR
