BEGIN:VCALENDAR
VERSION:2.0
PRODID:-//StreamRadar//Match Calendar//EN
CALSCALE:GREGORIAN
METHOD:PUBLISH
X-WR-CALNAME:IMT Novi Beograd vs Radnički Kragujevac
X-WR-TIMEZONE:America/New_York
BEGIN:VEVENT
UID:match-5612208@streamradar.soccer
SUMMARY:IMT Novi Beograd vs Radnički Kragujevac
DTSTAMP:20260421T080825Z
DTSTART;TZID=America/New_York:20260509T130000
DTEND;TZID=America/New_York:20260509T150000
DESCRIPTION:Dónde ver IMT Novi Beograd vs Radnički Kragujevac en Serbia -
  Superliga de Serbia. Transmisión en vivo y programación de TV.\nhttps://
 streamradar.soccer/es/match/5612208/imt-novi-beograd-vs-radnicki-kragujevac
 /
URL;VALUE=URI:https://streamradar.soccer/es/match/5612208/imt-novi-beograd-
 vs-radnicki-kragujevac/
STATUS:CONFIRMED
END:VEVENT
END:VCALENDAR
