BEGIN:VCALENDAR
VERSION:2.0
PRODID:-//StreamRadar//Match Calendar//EN
CALSCALE:GREGORIAN
METHOD:PUBLISH
X-WR-CALNAME:Vojvodina vs Čukarički
X-WR-TIMEZONE:America/New_York
BEGIN:VEVENT
UID:match-5612190@streamradar.soccer
SUMMARY:Vojvodina vs Čukarički
DTSTAMP:20260421T063007Z
DTSTART;TZID=America/New_York:20260509T130000
DTEND;TZID=America/New_York:20260509T150000
DESCRIPTION:Dónde ver Vojvodina vs Čukarički en Serbia - Superliga de Se
 rbia. Transmisión en vivo y programación de TV.\nhttps://streamradar.socc
 er/es/match/5612190/vojvodina-vs-cukaricki/
URL;VALUE=URI:https://streamradar.soccer/es/match/5612190/vojvodina-vs-cuka
 ricki/
STATUS:CONFIRMED
END:VEVENT
END:VCALENDAR
