BEGIN:VCALENDAR
VERSION:2.0
PRODID:-//StreamRadar//Match Calendar//EN
CALSCALE:GREGORIAN
METHOD:PUBLISH
X-WR-CALNAME:Partizan vs OFK Beograd
X-WR-TIMEZONE:America/New_York
BEGIN:VEVENT
UID:match-5612189@streamradar.soccer
SUMMARY:Partizan vs OFK Beograd
DTSTAMP:20260421T080653Z
DTSTART;TZID=America/New_York:20260509T130000
DTEND;TZID=America/New_York:20260509T150000
LOCATION:Stadion Partizana
DESCRIPTION:Dónde ver Partizan vs OFK Beograd en Serbia - Superliga de Ser
 bia. Transmisión en vivo y programación de TV.\nhttps://streamradar.socce
 r/es/match/5612189/partizan-vs-ofk-beograd/
URL;VALUE=URI:https://streamradar.soccer/es/match/5612189/partizan-vs-ofk-b
 eograd/
STATUS:CONFIRMED
END:VEVENT
END:VCALENDAR
