BEGIN:VCALENDAR
VERSION:2.0
PRODID:-//StreamRadar//Match Calendar//EN
CALSCALE:GREGORIAN
METHOD:PUBLISH
X-WR-CALNAME:Baltika 2 vs Iskra Smolensk
X-WR-TIMEZONE:America/New_York
BEGIN:VEVENT
UID:match-5611574@streamradar.soccer
SUMMARY:Baltika 2 vs Iskra Smolensk
DTSTAMP:20260421T092946Z
DTSTART;TZID=America/New_York:20260510T090000
DTEND;TZID=America/New_York:20260510T110000
DESCRIPTION:Dónde ver Baltika 2 vs Iskra Smolensk en Rusia - FNL 2. Transm
 isión en vivo y programación de TV.\nhttps://streamradar.soccer/es/match/
 5611574/baltika-2-vs-iskra-smolensk/
URL;VALUE=URI:https://streamradar.soccer/es/match/5611574/baltika-2-vs-iskr
 a-smolensk/
STATUS:CONFIRMED
END:VEVENT
END:VCALENDAR
