BEGIN:VCALENDAR
VERSION:2.0
PRODID:-//StreamRadar//Match Calendar//EN
CALSCALE:GREGORIAN
METHOD:PUBLISH
X-WR-CALNAME:Defensores de Vilelas vs Bartolomé Mitre
X-WR-TIMEZONE:America/New_York
BEGIN:VEVENT
UID:match-5611500@streamradar.soccer
SUMMARY:Defensores de Vilelas vs Bartolomé Mitre
DTSTAMP:20260421T104446Z
DTSTART;TZID=America/New_York:20260510T160000
DTEND;TZID=America/New_York:20260510T180000
DESCRIPTION:Dónde ver Defensores De Vilelas vs Bartolomé Mitre en Torneo 
 Federal A. Transmisión en vivo y programación de TV.\nhttps://streamradar
 .soccer/es/match/5611500/defensores-de-vilelas-vs-bartolome-mitre/
URL;VALUE=URI:https://streamradar.soccer/es/match/5611500/defensores-de-vil
 elas-vs-bartolome-mitre/
STATUS:CONFIRMED
END:VEVENT
END:VCALENDAR
