BEGIN:VCALENDAR
VERSION:2.0
PRODID:-//StreamRadar//Match Calendar//EN
CALSCALE:GREGORIAN
METHOD:PUBLISH
X-WR-CALNAME:Posta Rangers vs Bidco United
X-WR-TIMEZONE:America/New_York
BEGIN:VEVENT
UID:match-5611441@streamradar.soccer
SUMMARY:Posta Rangers vs Bidco United
DTSTAMP:20260420T235349Z
DTSTART;TZID=America/New_York:20260424T060000
DTEND;TZID=America/New_York:20260424T080000
LOCATION:Thika Municipal Stadium (Thika)
DESCRIPTION:Dónde ver Posta Rangers vs Bidco United en Kenyan Premier Leag
 ue. Transmisión en vivo y programación de TV.\nhttps://streamradar.soccer
 /es/match/5611441/posta-rangers-vs-bidco-united/
URL;VALUE=URI:https://streamradar.soccer/es/match/5611441/posta-rangers-vs-
 bidco-united/
STATUS:CONFIRMED
END:VEVENT
END:VCALENDAR
