BEGIN:VCALENDAR
VERSION:2.0
PRODID:-//StreamRadar//Match Calendar//EN
CALSCALE:GREGORIAN
METHOD:PUBLISH
X-WR-CALNAME:BKS Sparta Katowice vs Słowianin
X-WR-TIMEZONE:America/New_York
BEGIN:VEVENT
UID:match-5610846@streamradar.soccer
SUMMARY:BKS Sparta Katowice vs Słowianin
DTSTAMP:20260421T104420Z
DTSTART;TZID=America/New_York:20260509T060000
DTEND;TZID=America/New_York:20260509T080000
DESCRIPTION:Dónde ver BKS Sparta Katowice vs Słowianin en Polonia - III L
 iga. Transmisión en vivo y programación de TV.\nhttps://streamradar.socce
 r/es/match/5610846/bks-sparta-katowice-vs-slowianin/
URL;VALUE=URI:https://streamradar.soccer/es/match/5610846/bks-sparta-katowi
 ce-vs-slowianin/
STATUS:CONFIRMED
END:VEVENT
END:VCALENDAR
