BEGIN:VCALENDAR
VERSION:2.0
PRODID:-//StreamRadar//Match Calendar//EN
CALSCALE:GREGORIAN
METHOD:PUBLISH
X-WR-CALNAME:Delhi FC vs SC Bengaluru
X-WR-TIMEZONE:America/New_York
BEGIN:VEVENT
UID:match-5610747@streamradar.soccer
SUMMARY:Delhi FC vs SC Bengaluru
DTSTAMP:20260421T104518Z
DTSTART;TZID=America/New_York:20260509T063000
DTEND;TZID=America/New_York:20260509T083000
LOCATION:Mahilpur Stadium
DESCRIPTION:Dónde ver Delhi FC vs SC Bengaluru en India - I-League 2. Tran
 smisión en vivo y programación de TV.\nhttps://streamradar.soccer/es/matc
 h/5610747/delhi-fc-vs-sc-bengaluru/
URL;VALUE=URI:https://streamradar.soccer/es/match/5610747/delhi-fc-vs-sc-be
 ngaluru/
STATUS:CONFIRMED
END:VEVENT
END:VCALENDAR
