BEGIN:VCALENDAR
VERSION:2.0
PRODID:-//StreamRadar//Match Calendar//EN
CALSCALE:GREGORIAN
METHOD:PUBLISH
X-WR-CALNAME:Aberdeen vs Dundee United
X-WR-TIMEZONE:America/New_York
BEGIN:VEVENT
UID:match-5610646@streamradar.soccer
SUMMARY:Aberdeen vs Dundee United
DTSTAMP:20260421T063011Z
DTSTART;TZID=America/New_York:20260509T100000
DTEND;TZID=America/New_York:20260509T120000
LOCATION:Pittodrie Stadium
DESCRIPTION:Dónde ver Aberdeen vs Dundee United en Scottish Premiership. T
 ransmisión en vivo y programación de TV.\nhttps://streamradar.soccer/es/m
 atch/5610646/aberdeen-vs-dundee-united/
URL;VALUE=URI:https://streamradar.soccer/es/match/5610646/aberdeen-vs-dunde
 e-united/
STATUS:CONFIRMED
END:VEVENT
END:VCALENDAR
