BEGIN:VCALENDAR
VERSION:2.0
PRODID:-//StreamRadar//Match Calendar//EN
CALSCALE:GREGORIAN
METHOD:PUBLISH
X-WR-CALNAME:Dundee vs St. Mirren
X-WR-TIMEZONE:America/New_York
BEGIN:VEVENT
UID:match-5609393@streamradar.soccer
SUMMARY:Dundee vs St. Mirren
DTSTAMP:20260421T074045Z
DTSTART;TZID=America/New_York:20260502T100000
DTEND;TZID=America/New_York:20260502T120000
LOCATION:Dens Park
DESCRIPTION:Dónde ver Dundee vs St. Mirren en Scottish Premiership. Transm
 isión en vivo y programación de TV.\nhttps://streamradar.soccer/es/match/
 5609393/dundee-vs-st-mirren/
URL;VALUE=URI:https://streamradar.soccer/es/match/5609393/dundee-vs-st-mirr
 en/
STATUS:CONFIRMED
END:VEVENT
END:VCALENDAR
