BEGIN:VCALENDAR
VERSION:2.0
PRODID:-//StreamRadar//Match Calendar//EN
CALSCALE:GREGORIAN
METHOD:PUBLISH
X-WR-CALNAME:Buchholz vs ETSV Hamburg
X-WR-TIMEZONE:America/New_York
BEGIN:VEVENT
UID:match-5608357@streamradar.soccer
SUMMARY:Buchholz vs ETSV Hamburg
DTSTAMP:20260421T084311Z
DTSTART;TZID=America/New_York:20260505T130000
DTEND;TZID=America/New_York:20260505T150000
DESCRIPTION:Dónde ver Buchholz vs ETSV Hamburg en Alemania - Oberliga. Tra
 nsmisión en vivo y programación de TV.\nhttps://streamradar.soccer/es/mat
 ch/5608357/buchholz-vs-etsv-hamburg/
URL;VALUE=URI:https://streamradar.soccer/es/match/5608357/buchholz-vs-etsv-
 hamburg/
STATUS:CONFIRMED
END:VEVENT
END:VCALENDAR
