BEGIN:VCALENDAR
VERSION:2.0
PRODID:-//StreamRadar//Match Calendar//EN
CALSCALE:GREGORIAN
METHOD:PUBLISH
X-WR-CALNAME:Itabaiana vs Botafogo PB
X-WR-TIMEZONE:America/New_York
BEGIN:VEVENT
UID:match-5608015@streamradar.soccer
SUMMARY:Itabaiana vs Botafogo PB
DTSTAMP:20260421T062218Z
DTSTART;TZID=America/New_York:20260422T180000
DTEND;TZID=America/New_York:20260422T200000
LOCATION:Estadio Etelvino Mendonca
DESCRIPTION:Dónde ver Itabaiana vs Botafogo PB en Copa do Nordeste. Transm
 isión en vivo y programación de TV.\nhttps://streamradar.soccer/es/match/
 5608015/itabaiana-vs-botafogo-pb/
URL;VALUE=URI:https://streamradar.soccer/es/match/5608015/itabaiana-vs-bota
 fogo-pb/
STATUS:CONFIRMED
END:VEVENT
END:VCALENDAR
