BEGIN:VCALENDAR
VERSION:2.0
PRODID:-//StreamRadar//Match Calendar//EN
CALSCALE:GREGORIAN
METHOD:PUBLISH
X-WR-CALNAME:AS-FAN vs USGN
X-WR-TIMEZONE:America/New_York
BEGIN:VEVENT
UID:match-5607952@streamradar.soccer
SUMMARY:AS-FAN vs USGN
DTSTAMP:20260421T220321Z
DTSTART;TZID=America/New_York:20260407T113000
DTEND;TZID=America/New_York:20260407T133000
LOCATION:Stade Général Seyni Kountché (Niamey)
DESCRIPTION:Dónde ver AS-FAN vs USGN en Níger - Super Ligue. Transmisión
  en vivo y programación de TV.\nhttps://streamradar.soccer/es/match/560795
 2/as-fan-vs-usgn/
URL;VALUE=URI:https://streamradar.soccer/es/match/5607952/as-fan-vs-usgn/
STATUS:CONFIRMED
END:VEVENT
END:VCALENDAR
