BEGIN:VCALENDAR
VERSION:2.0
PRODID:-//StreamRadar//Match Calendar//EN
CALSCALE:GREGORIAN
METHOD:PUBLISH
X-WR-CALNAME:AJEL vs Ouakam
X-WR-TIMEZONE:America/New_York
BEGIN:VEVENT
UID:match-5607561@streamradar.soccer
SUMMARY:AJEL vs Ouakam
DTSTAMP:20260421T162613Z
DTSTART;TZID=America/New_York:20260411T123000
DTEND;TZID=America/New_York:20260411T143000
LOCATION:Stade Ngalandou Diouf (Rufisque)
DESCRIPTION:Dónde ver AJEL vs Ouakam en Senegal - Premier League. Transmis
 ión en vivo y programación de TV.\nhttps://streamradar.soccer/es/match/56
 07561/ajel-vs-ouakam/
URL;VALUE=URI:https://streamradar.soccer/es/match/5607561/ajel-vs-ouakam/
STATUS:CONFIRMED
END:VEVENT
END:VCALENDAR
