BEGIN:VCALENDAR
VERSION:2.0
PRODID:-//StreamRadar//Match Calendar//EN
CALSCALE:GREGORIAN
METHOD:PUBLISH
X-WR-CALNAME:Eppelborn vs Koblenz
X-WR-TIMEZONE:America/New_York
BEGIN:VEVENT
UID:match-5607492@streamradar.soccer
SUMMARY:Eppelborn vs Koblenz
DTSTAMP:20260421T071508Z
DTSTART;TZID=America/New_York:20260503T090000
DTEND;TZID=America/New_York:20260503T110000
DESCRIPTION:Dónde ver Eppelborn vs Koblenz en Alemania - Oberliga. Transmi
 sión en vivo y programación de TV.\nhttps://streamradar.soccer/es/match/5
 607492/eppelborn-vs-koblenz/
URL;VALUE=URI:https://streamradar.soccer/es/match/5607492/eppelborn-vs-kobl
 enz/
STATUS:CONFIRMED
END:VEVENT
END:VCALENDAR
