BEGIN:VCALENDAR
VERSION:2.0
PRODID:-//StreamRadar//Match Calendar//EN
CALSCALE:GREGORIAN
METHOD:PUBLISH
X-WR-CALNAME:Primavera MG vs Inhumas
X-WR-TIMEZONE:America/New_York
BEGIN:VEVENT
UID:match-5607450@streamradar.soccer
SUMMARY:Primavera MG vs Inhumas
DTSTAMP:20260421T104338Z
DTSTART;TZID=America/New_York:20260503T160000
DTEND;TZID=America/New_York:20260503T180000
DESCRIPTION:Dónde ver Primavera MG vs Inhumas en Brasil - Serie D. Transmi
 sión en vivo y programación de TV.\nhttps://streamradar.soccer/es/match/5
 607450/primavera-mg-vs-inhumas/
URL;VALUE=URI:https://streamradar.soccer/es/match/5607450/primavera-mg-vs-i
 nhumas/
STATUS:CONFIRMED
END:VEVENT
END:VCALENDAR
