BEGIN:VCALENDAR
VERSION:2.0
PRODID:-//StreamRadar//Match Calendar//EN
CALSCALE:GREGORIAN
METHOD:PUBLISH
X-WR-CALNAME:Mouna vs ASEC Mimosas
X-WR-TIMEZONE:America/New_York
BEGIN:VEVENT
UID:match-5607384@streamradar.soccer
SUMMARY:Mouna vs ASEC Mimosas
DTSTAMP:20260422T000445Z
DTSTART;TZID=America/New_York:20260405T140000
DTEND;TZID=America/New_York:20260405T160000
DESCRIPTION:Dónde ver Mouna vs ASEC Mimosas en Ligue 1 de Costa de Marfil.
  Transmisión en vivo y programación de TV.\nhttps://streamradar.soccer/es
 /match/5607384/mouna-vs-asec-mimosas/
URL;VALUE=URI:https://streamradar.soccer/es/match/5607384/mouna-vs-asec-mim
 osas/
STATUS:CONFIRMED
END:VEVENT
END:VCALENDAR
