BEGIN:VCALENDAR
VERSION:2.0
PRODID:-//StreamRadar//Match Calendar//EN
CALSCALE:GREGORIAN
METHOD:PUBLISH
X-WR-CALNAME:Aalesund vs Bodø / Glimt
X-WR-TIMEZONE:America/New_York
BEGIN:VEVENT
UID:match-5604376@streamradar.soccer
SUMMARY:Aalesund vs Bodø / Glimt
DTSTAMP:20260421T220303Z
DTSTART;TZID=America/New_York:20260620T090000
DTEND;TZID=America/New_York:20260620T110000
LOCATION:Color Line Stadion
DESCRIPTION:Dónde ver Aalesund vs Bodø / Glimt en Noruega - Toppserien. T
 ransmisión en vivo y programación de TV.\nhttps://streamradar.soccer/es/m
 atch/5604376/aalesund-vs-bod-glimt/
URL;VALUE=URI:https://streamradar.soccer/es/match/5604376/aalesund-vs-bod-g
 limt/
STATUS:CONFIRMED
END:VEVENT
END:VCALENDAR
