BEGIN:VCALENDAR
VERSION:2.0
PRODID:-//StreamRadar//Match Calendar//EN
CALSCALE:GREGORIAN
METHOD:PUBLISH
X-WR-CALNAME:Aalesund vs Rosenborg Kvinner
X-WR-TIMEZONE:America/New_York
BEGIN:VEVENT
UID:match-5604351@streamradar.soccer
SUMMARY:Aalesund vs Rosenborg Kvinner
DTSTAMP:20260420T181839Z
DTSTART;TZID=America/New_York:20260424T120000
DTEND;TZID=America/New_York:20260424T140000
LOCATION:Color Line Stadion
DESCRIPTION:Dónde ver Aalesund vs Rosenborg Kvinner en Noruega - Toppserie
 n. Transmisión en vivo y programación de TV.\nhttps://streamradar.soccer/
 es/match/5604351/aalesund-vs-rosenborg-kvinner/
URL;VALUE=URI:https://streamradar.soccer/es/match/5604351/aalesund-vs-rosen
 borg-kvinner/
STATUS:CONFIRMED
END:VEVENT
END:VCALENDAR
