BEGIN:VCALENDAR
VERSION:2.0
PRODID:-//StreamRadar//Match Calendar//EN
CALSCALE:GREGORIAN
METHOD:PUBLISH
X-WR-CALNAME:Defensores de Vilelas vs Sarmiento Resistencia
X-WR-TIMEZONE:America/New_York
BEGIN:VEVENT
UID:match-5602173@streamradar.soccer
SUMMARY:Defensores de Vilelas vs Sarmiento Resistencia
DTSTAMP:20260421T165806Z
DTSTART;TZID=America/New_York:20260413T193000
DTEND;TZID=America/New_York:20260413T213000
DESCRIPTION:Dónde ver Defensores De Vilelas vs Sarmiento Resistencia en To
 rneo Federal A. Transmisión en vivo y programación de TV.\nhttps://stream
 radar.soccer/es/match/5602173/defensores-de-vilelas-vs-sarmiento-resistenci
 a/
URL;VALUE=URI:https://streamradar.soccer/es/match/5602173/defensores-de-vil
 elas-vs-sarmiento-resistencia/
STATUS:CONFIRMED
END:VEVENT
END:VCALENDAR
