BEGIN:VCALENDAR
VERSION:2.0
PRODID:-//StreamRadar//Match Calendar//EN
CALSCALE:GREGORIAN
METHOD:PUBLISH
X-WR-CALNAME:Chicago Fire II vs Chattanooga
X-WR-TIMEZONE:America/New_York
BEGIN:VEVENT
UID:match-5595054@streamradar.soccer
SUMMARY:Chicago Fire II vs Chattanooga
DTSTAMP:20260425T174346Z
DTSTART;TZID=America/New_York:20260920T140000
DTEND;TZID=America/New_York:20260920T160000
LOCATION:SeatGeek Stadium
DESCRIPTION:Dónde ver Chicago Fire II vs Chattanooga en MLS Next Pro. Tran
 smisión en vivo y programación de TV.\nhttps://streamradar.soccer/es/matc
 h/5595054/chicago-fire-ii-vs-chattanooga/
URL;VALUE=URI:https://streamradar.soccer/es/match/5595054/chicago-fire-ii-v
 s-chattanooga/
STATUS:CONFIRMED
END:VEVENT
END:VCALENDAR
