BEGIN:VCALENDAR
VERSION:2.0
PRODID:-//StreamRadar//Match Calendar//EN
CALSCALE:GREGORIAN
METHOD:PUBLISH
X-WR-CALNAME:Molodechno-2013 vs Ostrovets
X-WR-TIMEZONE:America/New_York
BEGIN:VEVENT
UID:match-5594938@streamradar.soccer
SUMMARY:Molodechno-2013 vs Ostrovets
DTSTAMP:20260423T200405Z
DTSTART;TZID=America/New_York:20260919T110000
DTEND;TZID=America/New_York:20260919T130000
LOCATION:Molodechno Haradzki Stadion
DESCRIPTION:Dónde ver Molodechno-2013 vs Ostrovets en Bielorrusia - Primer
 a Liga de Bielorrusia. Transmisión en vivo y programación de TV.\nhttps:/
 /streamradar.soccer/es/match/5594938/molodechno-2013-vs-ostrovets/
URL;VALUE=URI:https://streamradar.soccer/es/match/5594938/molodechno-2013-v
 s-ostrovets/
STATUS:CONFIRMED
END:VEVENT
END:VCALENDAR
