BEGIN:VCALENDAR
VERSION:2.0
PRODID:-//StreamRadar//Match Calendar//EN
CALSCALE:GREGORIAN
METHOD:PUBLISH
X-WR-CALNAME:BATE 2 vs Soligorsk
X-WR-TIMEZONE:America/New_York
BEGIN:VEVENT
UID:match-5594934@streamradar.soccer
SUMMARY:BATE 2 vs Soligorsk
DTSTAMP:20260423T200401Z
DTSTART;TZID=America/New_York:20260919T110000
DTEND;TZID=America/New_York:20260919T130000
LOCATION:Haradski Stadium
DESCRIPTION:Dónde ver BATE 2 vs Soligorsk en Bielorrusia - Primera Liga de
  Bielorrusia. Transmisión en vivo y programación de TV.\nhttps://streamra
 dar.soccer/es/match/5594934/bate-2-vs-soligorsk/
URL;VALUE=URI:https://streamradar.soccer/es/match/5594934/bate-2-vs-soligor
 sk/
STATUS:CONFIRMED
END:VEVENT
END:VCALENDAR
