BEGIN:VCALENDAR
VERSION:2.0
PRODID:-//StreamRadar//Match Calendar//EN
CALSCALE:GREGORIAN
METHOD:PUBLISH
X-WR-CALNAME:Niva Dolbizno vs Bumprom
X-WR-TIMEZONE:America/New_York
BEGIN:VEVENT
UID:match-5594929@streamradar.soccer
SUMMARY:Niva Dolbizno vs Bumprom
DTSTAMP:20260423T200422Z
DTSTART;TZID=America/New_York:20260912T110000
DTEND;TZID=America/New_York:20260912T130000
LOCATION:City Stadium
DESCRIPTION:Dónde ver Niva Dolbizno vs Bumprom en Bielorrusia - Primera Li
 ga de Bielorrusia. Transmisión en vivo y programación de TV.\nhttps://str
 eamradar.soccer/es/match/5594929/niva-dolbizno-vs-bumprom/
URL;VALUE=URI:https://streamradar.soccer/es/match/5594929/niva-dolbizno-vs-
 bumprom/
STATUS:CONFIRMED
END:VEVENT
END:VCALENDAR
