BEGIN:VCALENDAR
VERSION:2.0
PRODID:-//StreamRadar//Match Calendar//EN
CALSCALE:GREGORIAN
METHOD:PUBLISH
X-WR-CALNAME:BATE II vs Uni Minsk
X-WR-TIMEZONE:America/New_York
BEGIN:VEVENT
UID:match-5594925@streamradar.soccer
SUMMARY:BATE II vs Uni Minsk
DTSTAMP:20260423T200401Z
DTSTART;TZID=America/New_York:20260912T110000
DTEND;TZID=America/New_York:20260912T130000
LOCATION:Haradski Stadium
DESCRIPTION:Dónde ver BATE II vs Uni Minsk en Bielorrusia - Primera Liga d
 e Bielorrusia. Transmisión en vivo y programación de TV.\nhttps://streamr
 adar.soccer/es/match/5594925/bate-ii-vs-uni-minsk/
URL;VALUE=URI:https://streamradar.soccer/es/match/5594925/bate-ii-vs-uni-mi
 nsk/
STATUS:CONFIRMED
END:VEVENT
END:VCALENDAR
