BEGIN:VCALENDAR
VERSION:2.0
PRODID:-//StreamRadar//Match Calendar//EN
CALSCALE:GREGORIAN
METHOD:PUBLISH
X-WR-CALNAME:Rubin Kazan vs Yenisey
X-WR-TIMEZONE:America/New_York
BEGIN:VEVENT
UID:match-5594668@streamradar.soccer
SUMMARY:Rubin Kazan vs Yenisey
DTSTAMP:20260422T065721Z
DTSTART;TZID=America/New_York:20260919T060000
DTEND;TZID=America/New_York:20260919T080000
LOCATION:Ak Bars Arena
DESCRIPTION:Dónde ver Rubin Kazan vs Yenisey en Rusia - Women's Football C
 hampionship. Transmisión en vivo y programación de TV.\nhttps://streamrad
 ar.soccer/es/match/5594668/rubin-kazan-vs-yenisey/
URL;VALUE=URI:https://streamradar.soccer/es/match/5594668/rubin-kazan-vs-ye
 nisey/
STATUS:CONFIRMED
END:VEVENT
END:VCALENDAR
