BEGIN:VCALENDAR
VERSION:2.0
PRODID:-//StreamRadar//Match Calendar//EN
CALSCALE:GREGORIAN
METHOD:PUBLISH
X-WR-CALNAME:Krylya Sovetov vs Lokomotiv Moskva
X-WR-TIMEZONE:America/New_York
BEGIN:VEVENT
UID:match-5594666@streamradar.soccer
SUMMARY:Krylya Sovetov vs Lokomotiv Moskva
DTSTAMP:20260422T065709Z
DTSTART;TZID=America/New_York:20260919T060000
DTEND;TZID=America/New_York:20260919T080000
LOCATION:Metallurg Stadium
DESCRIPTION:Dónde ver Krylya Sovetov vs Lokomotiv Moskva en Rusia - Women'
 s Football Championship. Transmisión en vivo y programación de TV.\nhttps
 ://streamradar.soccer/es/match/5594666/krylya-sovetov-vs-lokomotiv-moskva/
URL;VALUE=URI:https://streamradar.soccer/es/match/5594666/krylya-sovetov-vs
 -lokomotiv-moskva/
STATUS:CONFIRMED
END:VEVENT
END:VCALENDAR
