BEGIN:VCALENDAR
VERSION:2.0
PRODID:-//StreamRadar//Match Calendar//EN
CALSCALE:GREGORIAN
METHOD:PUBLISH
X-WR-CALNAME:Torpedo BelAZ vs Vitebsk
X-WR-TIMEZONE:America/New_York
BEGIN:VEVENT
UID:match-5593219@streamradar.soccer
SUMMARY:Torpedo BelAZ vs Vitebsk
DTSTAMP:20260423T170900Z
DTSTART;TZID=America/New_York:20260919T110000
DTEND;TZID=America/New_York:20260919T130000
LOCATION:Stadion Torpedo
DESCRIPTION:Dónde ver Torpedo BelAZ vs Vitebsk en Bielorrusia - Liga Premi
 er de Bielorrusia. Transmisión en vivo y programación de TV.\nhttps://str
 eamradar.soccer/es/match/5593219/torpedo-belaz-vs-vitebsk/
URL;VALUE=URI:https://streamradar.soccer/es/match/5593219/torpedo-belaz-vs-
 vitebsk/
STATUS:CONFIRMED
END:VEVENT
END:VCALENDAR
