BEGIN:VCALENDAR
VERSION:2.0
PRODID:-//StreamRadar//Match Calendar//EN
CALSCALE:GREGORIAN
METHOD:PUBLISH
X-WR-CALNAME:Baranovichi vs Gomel
X-WR-TIMEZONE:America/New_York
BEGIN:VEVENT
UID:match-5593212@streamradar.soccer
SUMMARY:Baranovichi vs Gomel
DTSTAMP:20260423T170917Z
DTSTART;TZID=America/New_York:20260919T110000
DTEND;TZID=America/New_York:20260919T130000
LOCATION:Lokomotiv Stadium
DESCRIPTION:Dónde ver Baranovichi vs Gomel en Bielorrusia - Liga Premier d
 e Bielorrusia. Transmisión en vivo y programación de TV.\nhttps://streamr
 adar.soccer/es/match/5593212/baranovichi-vs-gomel/
URL;VALUE=URI:https://streamradar.soccer/es/match/5593212/baranovichi-vs-go
 mel/
STATUS:CONFIRMED
END:VEVENT
END:VCALENDAR
