BEGIN:VCALENDAR
VERSION:2.0
PRODID:-//StreamRadar//Match Calendar//EN
CALSCALE:GREGORIAN
METHOD:PUBLISH
X-WR-CALNAME:Denver Summit vs Seattle Reign
X-WR-TIMEZONE:America/New_York
BEGIN:VEVENT
UID:match-5587491@streamradar.soccer
SUMMARY:Denver Summit vs Seattle Reign
DTSTAMP:20260423T155609Z
DTSTART;TZID=America/New_York:20260919T204500
DTEND;TZID=America/New_York:20260919T224500
DESCRIPTION:Dónde ver Denver Summit vs Seattle Reign en NWSL. Transmisión
  en vivo y programación de TV.\nhttps://streamradar.soccer/es/match/558749
 1/denver-summit-vs-seattle-reign/
URL;VALUE=URI:https://streamradar.soccer/es/match/5587491/denver-summit-vs-
 seattle-reign/
STATUS:CONFIRMED
END:VEVENT
END:VCALENDAR
