BEGIN:VCALENDAR
VERSION:2.0
PRODID:-//StreamRadar//Match Calendar//EN
CALSCALE:GREGORIAN
METHOD:PUBLISH
X-WR-CALNAME:Denver Summit vs NJ/NY Gotham FC
X-WR-TIMEZONE:America/New_York
BEGIN:VEVENT
UID:match-5587487@streamradar.soccer
SUMMARY:Denver Summit vs NJ/NY Gotham FC
DTSTAMP:20260421T093137Z
DTSTART;TZID=America/New_York:20260906T140000
DTEND;TZID=America/New_York:20260906T160000
DESCRIPTION:DÃ³nde ver Denver Summit vs NJ/NY Gotham FC en NWSL. TransmisiÃ
 ³n en vivo y programaciÃ³n de TV.\nhttps://streamradar.soccer/es/match/5587
 487/denver-summit-vs-nj-ny-gotham-fc/
URL;VALUE=URI:https://streamradar.soccer/es/match/5587487/denver-summit-vs-
 nj-ny-gotham-fc/
STATUS:CONFIRMED
END:VEVENT
END:VCALENDAR
