BEGIN:VCALENDAR
VERSION:2.0
PRODID:-//StreamRadar//Match Calendar//EN
CALSCALE:GREGORIAN
METHOD:PUBLISH
X-WR-CALNAME:Aktobe vs Ulytau
X-WR-TIMEZONE:America/New_York
BEGIN:VEVENT
UID:match-5582336@streamradar.soccer
SUMMARY:Aktobe vs Ulytau
DTSTAMP:20260421T164943Z
DTSTART;TZID=America/New_York:20260917T090000
DTEND;TZID=America/New_York:20260917T110000
LOCATION:Koblandy Batyr Stadium
DESCRIPTION:Dónde ver Aktobe vs Ulytau en Kazajistán Premier League. Tran
 smisión en vivo y programación de TV.\nhttps://streamradar.soccer/es/matc
 h/5582336/aktobe-vs-ulytau/
URL;VALUE=URI:https://streamradar.soccer/es/match/5582336/aktobe-vs-ulytau/
STATUS:CONFIRMED
END:VEVENT
END:VCALENDAR
