BEGIN:VCALENDAR
VERSION:2.0
PRODID:-//StreamRadar//Match Calendar//EN
CALSCALE:GREGORIAN
METHOD:PUBLISH
X-WR-CALNAME:Juventud Unida Univ. vs Huracán Las Heras
X-WR-TIMEZONE:America/New_York
BEGIN:VEVENT
UID:match-5580488@streamradar.soccer
SUMMARY:Juventud Unida Univ. vs Huracán Las Heras
DTSTAMP:20260422T070501Z
DTSTART;TZID=America/New_York:20260328T153000
DTEND;TZID=America/New_York:20260328T173000
LOCATION:Estadio Mario Sebastian Diez
DESCRIPTION:Dónde ver Juventud Unida Univ. vs Huracán Las Heras en Torneo
  Federal A. Transmisión en vivo y programación de TV.\nhttps://streamrada
 r.soccer/es/match/5580488/juventud-unida-univ-vs-huracan-las-heras/
URL;VALUE=URI:https://streamradar.soccer/es/match/5580488/juventud-unida-un
 iv-vs-huracan-las-heras/
STATUS:CONFIRMED
END:VEVENT
END:VCALENDAR
