BEGIN:VCALENDAR
VERSION:2.0
PRODID:-//StreamRadar//Match Calendar//EN
CALSCALE:GREGORIAN
METHOD:PUBLISH
X-WR-CALNAME:Once CaldAS W vs Inter Palmira W
X-WR-TIMEZONE:America/New_York
BEGIN:VEVENT
UID:match-5567956@streamradar.soccer
SUMMARY:Once CaldAS W vs Inter Palmira W
DTSTAMP:20260421T172609Z
DTSTART;TZID=America/New_York:20260802T160000
DTEND;TZID=America/New_York:20260802T180000
LOCATION:Estadio Palogrande
DESCRIPTION:Dónde ver Once CaldAS W vs Inter Palmira W en Colombia - Liga 
 Femenina. Transmisión en vivo y programación de TV.\nhttps://streamradar.
 soccer/es/match/5567956/once-caldas-w-vs-inter-palmira-w/
URL;VALUE=URI:https://streamradar.soccer/es/match/5567956/once-caldas-w-vs-
 inter-palmira-w/
STATUS:CONFIRMED
END:VEVENT
END:VCALENDAR
